BEGIN:VCALENDAR
VERSION:2.0
PRODID:-//OPIC - ECPv6.13.2.1//NONSGML v1.0//EN
CALSCALE:GREGORIAN
METHOD:PUBLISH
X-ORIGINAL-URL:https://opic.childrightsconnect.org
X-WR-CALDESC:Events for OPIC
REFRESH-INTERVAL;VALUE=DURATION:PT1H
X-Robots-Tag:noindex
X-PUBLISHED-TTL:PT1H
BEGIN:VTIMEZONE
TZID:Europe/Helsinki
BEGIN:DAYLIGHT
TZOFFSETFROM:+0200
TZOFFSETTO:+0300
TZNAME:EEST
DTSTART:20190331T010000
END:DAYLIGHT
BEGIN:STANDARD
TZOFFSETFROM:+0300
TZOFFSETTO:+0200
TZNAME:EET
DTSTART:20191027T010000
END:STANDARD
BEGIN:DAYLIGHT
TZOFFSETFROM:+0200
TZOFFSETTO:+0300
TZNAME:EEST
DTSTART:20200329T010000
END:DAYLIGHT
BEGIN:STANDARD
TZOFFSETFROM:+0300
TZOFFSETTO:+0200
TZNAME:EET
DTSTART:20201025T010000
END:STANDARD
END:VTIMEZONE
BEGIN:VTIMEZONE
TZID:Europe/Paris
BEGIN:DAYLIGHT
TZOFFSETFROM:+0100
TZOFFSETTO:+0200
TZNAME:CEST
DTSTART:20220327T010000
END:DAYLIGHT
BEGIN:STANDARD
TZOFFSETFROM:+0200
TZOFFSETTO:+0100
TZNAME:CET
DTSTART:20221030T010000
END:STANDARD
END:VTIMEZONE
BEGIN:VEVENT
DTSTART;TZID=Europe/Helsinki:20191108T131500
DTEND;TZID=Europe/Helsinki:20191108T143000
DTSTAMP:20260424T124352
CREATED:20191101T105108Z
LAST-MODIFIED:20191101T113007Z
UID:223792-1573218900-1573223400@opic.childrightsconnect.org
SUMMARY:A case for the ratification of the Optional Protocol to the Convention on the Rights of the Child on a Communications Procedure (OPIC)
DESCRIPTION:For more information about the side event\, check our concept note and agenda here.
URL:https://opic.childrightsconnect.org/event/a-case-for-the-ratification-of-the-optional-protocol-to-the-convention-on-the-rights-of-the-child-on-a-communications-procedure-opic/
LOCATION:New York UN Headquarters\, Room E\, New York\, NY\, United States
ATTACH;FMTTYPE=application/pdf:https://opic.childrightsconnect.org/wp-content/uploads/2019/11/Red-and-Yellow-Film-Club-School-Poster-1.pdf
END:VEVENT
BEGIN:VEVENT
DTSTART;TZID=Europe/Helsinki:20200625T170000
DTEND;TZID=Europe/Helsinki:20200625T193000
DTSTAMP:20260424T124352
CREATED:20200626T120754Z
LAST-MODIFIED:20200709T141006Z
UID:224736-1593104400-1593113400@opic.childrightsconnect.org
SUMMARY:The 3rd Optional Protocol to the CRC and the Access to a Child-Friendly Justice
DESCRIPTION:Child Rights Connect participated in an online event on the Third Optional Protocol to the Convention on the Rights of the Child (OPIC) and the Access to a Child-Friendly Justice. Together with Jorge Cardona\, ex Member of the Committee on the Rights of the Child\, we shared some thoughts on the use of the OPIC as well as some remaining challenges and opportunities to ensure access to justice for all children. A representative from the Inter-American Court on Human Rights also shared how the Court has been ensuring access to justice to children. \nThe event was organized by Defense for Children International (DCI) Costa Rica together with the Regional Office of UNICEF in Costa Rica and the National Childhood Trust of Costa Rica (PANI). The agenda can be found here.
URL:https://opic.childrightsconnect.org/event/the-3rd-optional-protocol-to-the-crc-and-the-access-to-a-child-friendly-justice/
END:VEVENT
BEGIN:VEVENT
DTSTART;VALUE=DATE:20200907
DTEND;VALUE=DATE:20200908
DTSTAMP:20260424T124352
CREATED:20200916T083427Z
LAST-MODIFIED:20200916T084346Z
UID:224839-1599436800-1599523199@opic.childrightsconnect.org
SUMMARY:Side event of Civil Society Forum of the African Child Committee
DESCRIPTION:On September 7th\, Child Rights Connect was invited to speak at a side event of the Civil Society Forum of the African Child Committee on best practices in documentation of rights violations: a comparison between the ACWRC and the OPIC communications procedure.
URL:https://opic.childrightsconnect.org/event/side-event-of-civil-society-forum-of-the-african-child-committee/
END:VEVENT
BEGIN:VEVENT
DTSTART;VALUE=DATE:20201130
DTEND;VALUE=DATE:20201202
DTSTAMP:20260424T124352
CREATED:20201207T162113Z
LAST-MODIFIED:20201207T162113Z
UID:225009-1606694400-1606867199@opic.childrightsconnect.org
SUMMARY:Regional Workshop on Strategic Litigation for the Protection of the Rights of the Child in Latin America
DESCRIPTION:
URL:https://opic.childrightsconnect.org/event/regional-workshop-on-strategic-litigation-for-the-protection-of-the-rights-of-the-child-in-latin-america/
END:VEVENT
BEGIN:VEVENT
DTSTART;TZID=Europe/Paris:20220317T163000
DTEND;TZID=Europe/Paris:20220317T180000
DTSTAMP:20260424T124352
CREATED:20220315T164431Z
LAST-MODIFIED:20220322T155022Z
UID:225815-1647534600-1647540000@opic.childrightsconnect.org
SUMMARY:Online Webinar Series 2021-2022 on Access to Justice for Children in Practice: The Optional Protocol to the Convention on the Rights of the Child on a communications procedure (OPIC)
DESCRIPTION:Organizers. Centre for Constitutional Studies in Mexico\, Suprema Corte de Justicia de la Nación and Leiden University \nSession 5 on Creating change through remedies and the OPIC \n\nDate: Thursday\, 17 March 2022\nTime: 9:30 – 11:00 am (CST)/4:30 – 6:00 pm (CET)\nRegistration: https://us06web.zoom.us/webinar/register/WN_L8rRIdx6QLy6q8Ahm2DMvg\n\nSpeakers: Ann Skelton\, member of the UN Committee on the Rights of the Child\, and Alex Conte\, Executive Director at Child Rights Connect. \nChairs. Dr Nicolás Espejo Yaksic from the Centre for Constitutional Studies in Mexico and Professor Ton Liefaard at Leiden University. \nRecording. Now available here.
URL:https://opic.childrightsconnect.org/event/online-webinar-series-2021-2022-on-access-to-justice-for-children-in-practice-the-optional-protocol-to-the-convention-on-the-rights-of-the-child-on-a-communications-procedure-opic/
END:VEVENT
END:VCALENDAR